Workbook
Name Format: #REF!
Name Gender: #REF!
Name MBD_Sequencing: #REF!
Name PacBio_Isoform_Sequencing: '[1]Sheet 1'!#REF!
Name Sample: #REF!
Name Test: #REF!
Name Type: #REF!

Sheet Sample release form
A1: SAMPLE RELEASE FORM For all sample submissions, this Excel file must be sent by email to the Services Platform and enclosed with your shipment
A2: ORGANIZATION
A3: Name
A4: Address
A5: CONTACT PERSON
A6: Name | G6: Function
A7: Telephone number | G7: E-mail
A8: Client's Purchase Order | G8: Sequencing Quotation Number
A9: SAMPLE INFORMATION
A10: Extraction kit or method | G10: Quantification method
A12: Names may contain only alphanumeric characters and underscores (Special characters, spaces, and hyphens are not allowed)
A14: Sample name | B14: DNA concentration (ng/µL) | C14: DNA volume (µL) | D14: Elution Buffer | E14: Cell sex | F14: Passage number | G14: Edited region | H14: Target Cell Type* | I14: Test to run n°1 | J14: Test to run n°2 | K14: Comment
A30: Add lines if needed
A31: Stem Genomics
A32: Add comments if necessary:
A35: *Please specify the target cell type or tissue into which the iPSCs will be differentiated (e.g., neurons, cardiomyocytes, hepatocytes)

Sheet Sequencing information
A1: NGS Order Sheet
A3: Macrogen Europe Meibergdreef 57, 1105BA, Amsterdam, The Netherlands T:+31 (0)20 333 7563 E: ngs@macrogen-europe.com
A4: Macrogen Inc. (Headquarter) 1F, 210-2, Songdo-Dong, Yeonsu-gu, Incheon, 21989, Republic of Korea
A5: Macrogen US (Psomagen, Inc.), 1330 Piccard Drive, Suite 103, Rockville, MD 20850, United States of America
A6: Please fill in the blanks in English, and send the excel file to the sales rep. via e-mail, as well as place the hard copy in the sample shipment.
A8: CUSTOMER INFORMATION
A9: Organization | C9: =IF('Sample release form'!B3="","",'Sample release form'!B3) | F9: Contact | H9: =IF('Sample release form'!B6="","",'Sample release form'!B6) | I9: Email | K9: =IF('Sample release form'!H7="","",'Sample release form'!H7)
A10: Purchase order | C10: SEND THE INVOICE | F10: Quotation | H10: =IF('Sample release form'!H8="","",'Sample release form'!H8)
A12: SEQUENCING INFORMATION
A13: Parameter | D13: Stem-Seq Panel | G13: Stem-Seq Plus | J13: Sem-Seq WGS 60X | L13: Sem-Seq WGS 100X
A14: Samples requested | D14: =SUMPRODUCT(--($B$28:$B$58<>""),--((($M$28:$M$58=D$13)+($N$28:$N$58=D$13))>0)) -> 0 | G14: =SUMPRODUCT(--($B$28:$B$58<>""),--((($M$28:$M$58=G$13)+($N$28:$N$58=G$13))>0)) -> 0 | J14: =SUMPRODUCT(--($B$28:$B$58<>""),--((($M$28:$M$58=J$13)+($N$28:$N$58=J$13))>0)) -> 0 | L14: =SUMPRODUCT(--($B$28:$B$58<>""),--((($M$28:$M$58=L$13)+($N$28:$N$58=L$13))>0)) -> 0
A15: Application | D15: Target_Seq | G15: Target_Seq | J15: TruSeq DNA PCR Free (350) | L15: TruSeq DNA PCR Free (550)
A16: Library | D16: Twist Custom | G16: Twist Custom | J16: TruSeq DNA PCR Free (350) | L16: TruSeq DNA PCR Free (550)
A17: Throughput per sample | D17: Twist Panel 1.1 Mb ( 2Gb per sample ) | G17: Twist Panel 4.1 Mb ( 10Gb per sample ) | J17: 200Gb per sample | L17: 335Gb per sample
A18: Data delivery | D18: FTP(maximum 100 Gb per order) | G18: FTP(maximum 100 Gb per order) | J18: Macrogen Google Cloud (pre-agreed project only) | L18: Macrogen Google Cloud (pre-agreed project only)
A20: COMMON PARAMETERS | D20: Platform | G20: NovaSeqX | I20: Run configuration | L20: Paired end
D21: Read length (bp) | G21: 150 | I21: Delivered data | L21: Raw Data
D22: BI analysis | G22: None
A24: SAMPLE INFORMATION
A27: No. | B27: Sample ID | C27: Tube ID | D27: Conc. (ng/µL) | E27: Volume (µL) | F27: Kingdom | G27: Species | H27: Sample status | I27: Sample type | J27: Sample source | K27: Additional preparation | L27: Sample buffer | M27: Requested service | N27: Requested service 2
A28: =IF(OR('Sample release form'!A15="",'Sample release form'!A15="Add lines if needed",'Sample release form'!A15="Stem Genomics",'Sample release form'!A15="Add comments if necessary:",'Sample release form'!A15="*Please specify the target cell type or tissue into which the iPSCs will be differentiated (e.g., neurons, cardiomyocytes, hepatocytes)"),"",ROW()-27) | B28: =IF(OR('Sample release form'!A15="",'Sample release form'!A15="Add lines if needed",'Sample release form'!A15="Stem Genomics",'Sample release form'!A15="Add comments if necessary:",'Sample release form'!A15="*Please specify the target cell type or tissue into which the iPSCs will be differentiated (e.g., neurons, cardiomyocytes, hepatocytes)"),"",'Sample release form'!A15) | D28: =IF(OR($B28="",'Sample release form'!B15=""),"",'Sample release form'!B15) | E28: =IF(OR($B28="",'Sample release form'!C15=""),"",'Sample release form'!C15) | F28: =IF($B28="","","Human") | G28: =IF($B28="","","Homo sapiens") | I28: =IF($B28="","","DNA") | J28: =IF($B28="","","Cell") | L28: =IF(OR($B28="",'Sample release form'!D15=""),"",'Sample release form'!D15) | M28: =IF($B28="","",'Sample release form'!I15) | N28: =IF(OR($B28="",'Sample release form'!J15=""),"",'Sample release form'!J15)
A29: =IF(OR('Sample release form'!A16="",'Sample release form'!A16="Add lines if needed",'Sample release form'!A16="Stem Genomics",'Sample release form'!A16="Add comments if necessary:",'Sample release form'!A16="*Please specify the target cell type or tissue into which the iPSCs will be differentiated (e.g., neurons, cardiomyocytes, hepatocytes)"),"",ROW()-27) | B29: =IF(OR('Sample release form'!A16="",'Sample release form'!A16="Add lines if needed",'Sample release form'!A16="Stem Genomics",'Sample release form'!A16="Add comments if necessary:",'Sample release form'!A16="*Please specify the target cell type or tissue into which the iPSCs will be differentiated (e.g., neurons, cardiomyocytes, hepatocytes)"),"",'Sample release form'!A16) | D29: =IF(OR($B29="",'Sample release form'!B16=""),"",'Sample release form'!B16) | E29: =IF(OR($B29="",'Sample release form'!C16=""),"",'Sample release form'!C16) | F29: =IF($B29="","","Human") | G29: =IF($B29="","","Homo sapiens") | I29: =IF($B29="","","DNA") | J29: =IF($B29="","","Cell") | L29: =IF(OR($B29="",'Sample release form'!D16=""),"",'Sample release form'!D16) | M29: =IF($B29="","",'Sample release form'!I16) | N29: =IF(OR($B29="",'Sample release form'!J16=""),"",'Sample release form'!J16)
A30: =IF(OR('Sample release form'!A17="",'Sample release form'!A17="Add lines if needed",'Sample release form'!A17="Stem Genomics",'Sample release form'!A17="Add comments if necessary:",'Sample release form'!A17="*Please specify the target cell type or tissue into which the iPSCs will be differentiated (e.g., neurons, cardiomyocytes, hepatocytes)"),"",ROW()-27) | B30: =IF(OR('Sample release form'!A17="",'Sample release form'!A17="Add lines if needed",'Sample release form'!A17="Stem Genomics",'Sample release form'!A17="Add comments if necessary:",'Sample release form'!A17="*Please specify the target cell type or tissue into which the iPSCs will be differentiated (e.g., neurons, cardiomyocytes, hepatocytes)"),"",'Sample release form'!A17) | D30: =IF(OR($B30="",'Sample release form'!B17=""),"",'Sample release form'!B17) | E30: =IF(OR($B30="",'Sample release form'!C17=""),"",'Sample release form'!C17) | F30: =IF($B30="","","Human") | G30: =IF($B30="","","Homo sapiens") | I30: =IF($B30="","","DNA") | J30: =IF($B30="","","Cell") | L30: =IF(OR($B30="",'Sample release form'!D17=""),"",'Sample release form'!D17) | M30: =IF($B30="","",'Sample release form'!I17) | N30: =IF(OR($B30="",'Sample release form'!J17=""),"",'Sample release form'!J17)
A31: =IF(OR('Sample release form'!A18="",'Sample release form'!A18="Add lines if needed",'Sample release form'!A18="Stem Genomics",'Sample release form'!A18="Add comments if necessary:",'Sample release form'!A18="*Please specify the target cell type or tissue into which the iPSCs will be differentiated (e.g., neurons, cardiomyocytes, hepatocytes)"),"",ROW()-27) | B31: =IF(OR('Sample release form'!A18="",'Sample release form'!A18="Add lines if needed",'Sample release form'!A18="Stem Genomics",'Sample release form'!A18="Add comments if necessary:",'Sample release form'!A18="*Please specify the target cell type or tissue into which the iPSCs will be differentiated (e.g., neurons, cardiomyocytes, hepatocytes)"),"",'Sample release form'!A18) | D31: =IF(OR($B31="",'Sample release form'!B18=""),"",'Sample release form'!B18) | E31: =IF(OR($B31="",'Sample release form'!C18=""),"",'Sample release form'!C18) | F31: =IF($B31="","","Human") | G31: =IF($B31="","","Homo sapiens") | I31: =IF($B31="","","DNA") | J31: =IF($B31="","","Cell") | L31: =IF(OR($B31="",'Sample release form'!D18=""),"",'Sample release form'!D18) | M31: =IF($B31="","",'Sample release form'!I18) | N31: =IF(OR($B31="",'Sample release form'!J18=""),"",'Sample release form'!J18)
A32: =IF(OR('Sample release form'!A19="",'Sample release form'!A19="Add lines if needed",'Sample release form'!A19="Stem Genomics",'Sample release form'!A19="Add comments if necessary:",'Sample release form'!A19="*Please specify the target cell type or tissue into which the iPSCs will be differentiated (e.g., neurons, cardiomyocytes, hepatocytes)"),"",ROW()-27) | B32: =IF(OR('Sample release form'!A19="",'Sample release form'!A19="Add lines if needed",'Sample release form'!A19="Stem Genomics",'Sample release form'!A19="Add comments if necessary:",'Sample release form'!A19="*Please specify the target cell type or tissue into which the iPSCs will be differentiated (e.g., neurons, cardiomyocytes, hepatocytes)"),"",'Sample release form'!A19) | D32: =IF(OR($B32="",'Sample release form'!B19=""),"",'Sample release form'!B19) | E32: =IF(OR($B32="",'Sample release form'!C19=""),"",'Sample release form'!C19) | F32: =IF($B32="","","Human") | G32: =IF($B32="","","Homo sapiens") | I32: =IF($B32="","","DNA") | J32: =IF($B32="","","Cell") | L32: =IF(OR($B32="",'Sample release form'!D19=""),"",'Sample release form'!D19) | M32: =IF($B32="","",'Sample release form'!I19) | N32: =IF(OR($B32="",'Sample release form'!J19=""),"",'Sample release form'!J19)
A33: =IF(OR('Sample release form'!A20="",'Sample release form'!A20="Add lines if needed",'Sample release form'!A20="Stem Genomics",'Sample release form'!A20="Add comments if necessary:",'Sample release form'!A20="*Please specify the target cell type or tissue into which the iPSCs will be differentiated (e.g., neurons, cardiomyocytes, hepatocytes)"),"",ROW()-27) | B33: =IF(OR('Sample release form'!A20="",'Sample release form'!A20="Add lines if needed",'Sample release form'!A20="Stem Genomics",'Sample release form'!A20="Add comments if necessary:",'Sample release form'!A20="*Please specify the target cell type or tissue into which the iPSCs will be differentiated (e.g., neurons, cardiomyocytes, hepatocytes)"),"",'Sample release form'!A20) | D33: =IF(OR($B33="",'Sample release form'!B20=""),"",'Sample release form'!B20) | E33: =IF(OR($B33="",'Sample release form'!C20=""),"",'Sample release form'!C20) | F33: =IF($B33="","","Human") | G33: =IF($B33="","","Homo sapiens") | I33: =IF($B33="","","DNA") | J33: =IF($B33="","","Cell") | L33: =IF(OR($B33="",'Sample release form'!D20=""),"",'Sample release form'!D20) | M33: =IF($B33="","",'Sample release form'!I20) | N33: =IF(OR($B33="",'Sample release form'!J20=""),"",'Sample release form'!J20)
A34: =IF(OR('Sample release form'!A21="",'Sample release form'!A21="Add lines if needed",'Sample release form'!A21="Stem Genomics",'Sample release form'!A21="Add comments if necessary:",'Sample release form'!A21="*Please specify the target cell type or tissue into which the iPSCs will be differentiated (e.g., neurons, cardiomyocytes, hepatocytes)"),"",ROW()-27) | B34: =IF(OR('Sample release form'!A21="",'Sample release form'!A21="Add lines if needed",'Sample release form'!A21="Stem Genomics",'Sample release form'!A21="Add comments if necessary:",'Sample release form'!A21="*Please specify the target cell type or tissue into which the iPSCs will be differentiated (e.g., neurons, cardiomyocytes, hepatocytes)"),"",'Sample release form'!A21) | D34: =IF(OR($B34="",'Sample release form'!B21=""),"",'Sample release form'!B21) | E34: =IF(OR($B34="",'Sample release form'!C21=""),"",'Sample release form'!C21) | F34: =IF($B34="","","Human") | G34: =IF($B34="","","Homo sapiens") | I34: =IF($B34="","","DNA") | J34: =IF($B34="","","Cell") | L34: =IF(OR($B34="",'Sample release form'!D21=""),"",'Sample release form'!D21) | M34: =IF($B34="","",'Sample release form'!I21) | N34: =IF(OR($B34="",'Sample release form'!J21=""),"",'Sample release form'!J21)
A35: =IF(OR('Sample release form'!A22="",'Sample release form'!A22="Add lines if needed",'Sample release form'!A22="Stem Genomics",'Sample release form'!A22="Add comments if necessary:",'Sample release form'!A22="*Please specify the target cell type or tissue into which the iPSCs will be differentiated (e.g., neurons, cardiomyocytes, hepatocytes)"),"",ROW()-27) | B35: =IF(OR('Sample release form'!A22="",'Sample release form'!A22="Add lines if needed",'Sample release form'!A22="Stem Genomics",'Sample release form'!A22="Add comments if necessary:",'Sample release form'!A22="*Please specify the target cell type or tissue into which the iPSCs will be differentiated (e.g., neurons, cardiomyocytes, hepatocytes)"),"",'Sample release form'!A22) | D35: =IF(OR($B35="",'Sample release form'!B22=""),"",'Sample release form'!B22) | E35: =IF(OR($B35="",'Sample release form'!C22=""),"",'Sample release form'!C22) | F35: =IF($B35="","","Human") | G35: =IF($B35="","","Homo sapiens") | I35: =IF($B35="","","DNA") | J35: =IF($B35="","","Cell") | L35: =IF(OR($B35="",'Sample release form'!D22=""),"",'Sample release form'!D22) | M35: =IF($B35="","",'Sample release form'!I22) | N35: =IF(OR($B35="",'Sample release form'!J22=""),"",'Sample release form'!J22)
A36: =IF(OR('Sample release form'!A23="",'Sample release form'!A23="Add lines if needed",'Sample release form'!A23="Stem Genomics",'Sample release form'!A23="Add comments if necessary:",'Sample release form'!A23="*Please specify the target cell type or tissue into which the iPSCs will be differentiated (e.g., neurons, cardiomyocytes, hepatocytes)"),"",ROW()-27) | B36: =IF(OR('Sample release form'!A23="",'Sample release form'!A23="Add lines if needed",'Sample release form'!A23="Stem Genomics",'Sample release form'!A23="Add comments if necessary:",'Sample release form'!A23="*Please specify the target cell type or tissue into which the iPSCs will be differentiated (e.g., neurons, cardiomyocytes, hepatocytes)"),"",'Sample release form'!A23) | D36: =IF(OR($B36="",'Sample release form'!B23=""),"",'Sample release form'!B23) | E36: =IF(OR($B36="",'Sample release form'!C23=""),"",'Sample release form'!C23) | F36: =IF($B36="","","Human") | G36: =IF($B36="","","Homo sapiens") | I36: =IF($B36="","","DNA") | J36: =IF($B36="","","Cell") | L36: =IF(OR($B36="",'Sample release form'!D23=""),"",'Sample release form'!D23) | M36: =IF($B36="","",'Sample release form'!I23) | N36: =IF(OR($B36="",'Sample release form'!J23=""),"",'Sample release form'!J23)
A37: =IF(OR('Sample release form'!A24="",'Sample release form'!A24="Add lines if needed",'Sample release form'!A24="Stem Genomics",'Sample release form'!A24="Add comments if necessary:",'Sample release form'!A24="*Please specify the target cell type or tissue into which the iPSCs will be differentiated (e.g., neurons, cardiomyocytes, hepatocytes)"),"",ROW()-27) | B37: =IF(OR('Sample release form'!A24="",'Sample release form'!A24="Add lines if needed",'Sample release form'!A24="Stem Genomics",'Sample release form'!A24="Add comments if necessary:",'Sample release form'!A24="*Please specify the target cell type or tissue into which the iPSCs will be differentiated (e.g., neurons, cardiomyocytes, hepatocytes)"),"",'Sample release form'!A24) | D37: =IF(OR($B37="",'Sample release form'!B24=""),"",'Sample release form'!B24) | E37: =IF(OR($B37="",'Sample release form'!C24=""),"",'Sample release form'!C24) | F37: =IF($B37="","","Human") | G37: =IF($B37="","","Homo sapiens") | I37: =IF($B37="","","DNA") | J37: =IF($B37="","","Cell") | L37: =IF(OR($B37="",'Sample release form'!D24=""),"",'Sample release form'!D24) | M37: =IF($B37="","",'Sample release form'!I24) | N37: =IF(OR($B37="",'Sample release form'!J24=""),"",'Sample release form'!J24)
A38: =IF(OR('Sample release form'!A25="",'Sample release form'!A25="Add lines if needed",'Sample release form'!A25="Stem Genomics",'Sample release form'!A25="Add comments if necessary:",'Sample release form'!A25="*Please specify the target cell type or tissue into which the iPSCs will be differentiated (e.g., neurons, cardiomyocytes, hepatocytes)"),"",ROW()-27) | B38: =IF(OR('Sample release form'!A25="",'Sample release form'!A25="Add lines if needed",'Sample release form'!A25="Stem Genomics",'Sample release form'!A25="Add comments if necessary:",'Sample release form'!A25="*Please specify the target cell type or tissue into which the iPSCs will be differentiated (e.g., neurons, cardiomyocytes, hepatocytes)"),"",'Sample release form'!A25) | D38: =IF(OR($B38="",'Sample release form'!B25=""),"",'Sample release form'!B25) | E38: =IF(OR($B38="",'Sample release form'!C25=""),"",'Sample release form'!C25) | F38: =IF($B38="","","Human") | G38: =IF($B38="","","Homo sapiens") | I38: =IF($B38="","","DNA") | J38: =IF($B38="","","Cell") | L38: =IF(OR($B38="",'Sample release form'!D25=""),"",'Sample release form'!D25) | M38: =IF($B38="","",'Sample release form'!I25) | N38: =IF(OR($B38="",'Sample release form'!J25=""),"",'Sample release form'!J25)
A39: =IF(OR('Sample release form'!A26="",'Sample release form'!A26="Add lines if needed",'Sample release form'!A26="Stem Genomics",'Sample release form'!A26="Add comments if necessary:",'Sample release form'!A26="*Please specify the target cell type or tissue into which the iPSCs will be differentiated (e.g., neurons, cardiomyocytes, hepatocytes)"),"",ROW()-27) | B39: =IF(OR('Sample release form'!A26="",'Sample release form'!A26="Add lines if needed",'Sample release form'!A26="Stem Genomics",'Sample release form'!A26="Add comments if necessary:",'Sample release form'!A26="*Please specify the target cell type or tissue into which the iPSCs will be differentiated (e.g., neurons, cardiomyocytes, hepatocytes)"),"",'Sample release form'!A26) | D39: =IF(OR($B39="",'Sample release form'!B26=""),"",'Sample release form'!B26) | E39: =IF(OR($B39="",'Sample release form'!C26=""),"",'Sample release form'!C26) | F39: =IF($B39="","","Human") | G39: =IF($B39="","","Homo sapiens") | I39: =IF($B39="","","DNA") | J39: =IF($B39="","","Cell") | L39: =IF(OR($B39="",'Sample release form'!D26=""),"",'Sample release form'!D26) | M39: =IF($B39="","",'Sample release form'!I26) | N39: =IF(OR($B39="",'Sample release form'!J26=""),"",'Sample release form'!J26)
... A42: =IF(OR('Sample release form'!A29="",'Sample release form'!A29="Add lines if needed",'Sample release form'!A29="Stem Genomics",'Sample release form'!A29="Add comments if necessary:",'Sample release form'!A29="*Please specify the target cell type or tissue into which the iPSCs will be differentiated (e.g., neurons, cardiomyocytes, hepatocytes)"),"",ROW()-27) | B42: =IF(OR('Sample release form'!A29="",'Sample release form'!A29="Add lines if needed",'Sample release form'!A29="Stem Genomics",'Sample release form'!A29="Add comments if necessary:",'Sample release form'!A29="*Please specify the target cell type or tissue into which the iPSCs will be differentiated (e.g., neurons, cardiomyocytes, hepatocytes)"),"",'Sample release form'!A29) | D42: =IF(OR($B42="",'Sample release form'!B29=""),"",'Sample release form'!B29) | E42: =IF(OR($B42="",'Sample release form'!C29=""),"",'Sample release form'!C29) | F42: =IF($B42="","","Human") | G42: =IF($B42="","","Homo sapiens") | I42: =IF($B42="","","DNA") | J42: =IF($B42="","","Cell") | L42: =IF(OR($B42="",'Sample release form'!D29=""),"",'Sample release form'!D29) | M42: =IF($B42="","",'Sample release form'!I29) | N42: =IF(OR($B42="",'Sample release form'!J29=""),"",'Sample release form'!J29)
A43: =IF(OR('Sample release form'!A30="",'Sample release form'!A30="Add lines if needed",'Sample release form'!A30="Stem Genomics",'Sample release form'!A30="Add comments if necessary:",'Sample release form'!A30="*Please specify the target cell type or tissue into which the iPSCs will be differentiated (e.g., neurons, cardiomyocytes, hepatocytes)"),"",ROW()-27) | B43: =IF(OR('Sample release form'!A30="",'Sample release form'!A30="Add lines if needed",'Sample release form'!A30="Stem Genomics",'Sample release form'!A30="Add comments if necessary:",'Sample release form'!A30="*Please specify the target cell type or tissue into which the iPSCs will be differentiated (e.g., neurons, cardiomyocytes, hepatocytes)"),"",'Sample release form'!A30) | D43: =IF(OR($B43="",'Sample release form'!B30=""),"",'Sample release form'!B30) | E43: =IF(OR($B43="",'Sample release form'!C30=""),"",'Sample release form'!C30) | F43: =IF($B43="","","Human") | G43: =IF($B43="","","Homo sapiens") | I43: =IF($B43="","","DNA") | J43: =IF($B43="","","Cell") | L43: =IF(OR($B43="",'Sample release form'!D30=""),"",'Sample release form'!D30) | M43: =IF(B43="","",'Sample release form'!I30&IF(OR('Sample release form'!J30="",'Sample release form'!J30='Sample release form'!I30),"",IF('Sample release form'!I30="",""," / ")&'Sample release form'!J30)) | N43: =IF(OR($B43="",'Sample release form'!J30=""),"",'Sample release form'!J30)
A44: =IF(OR('Sample release form'!A31="",'Sample release form'!A31="Add lines if needed",'Sample release form'!A31="Stem Genomics",'Sample release form'!A31="Add comments if necessary:",'Sample release form'!A31="*Please specify the target cell type or tissue into which the iPSCs will be differentiated (e.g., neurons, cardiomyocytes, hepatocytes)"),"",ROW()-27) | B44: =IF(OR('Sample release form'!A31="",'Sample release form'!A31="Add lines if needed",'Sample release form'!A31="Stem Genomics",'Sample release form'!A31="Add comments if necessary:",'Sample release form'!A31="*Please specify the target cell type or tissue into which the iPSCs will be differentiated (e.g., neurons, cardiomyocytes, hepatocytes)"),"",'Sample release form'!A31) | D44: =IF(OR($B44="",'Sample release form'!B31=""),"",'Sample release form'!B31) | E44: =IF(OR($B44="",'Sample release form'!C31=""),"",'Sample release form'!C31) | F44: =IF($B44="","","Human") | G44: =IF($B44="","","Homo sapiens") | I44: =IF($B44="","","DNA") | J44: =IF($B44="","","Cell") | L44: =IF(OR($B44="",'Sample release form'!D31=""),"",'Sample release form'!D31) | M44: =IF(B44="","",'Sample release form'!I31&IF(OR('Sample release form'!J31="",'Sample release form'!J31='Sample release form'!I31),"",IF('Sample release form'!I31="",""," / ")&'Sample release form'!J31)) | N44: =IF(OR($B44="",'Sample release form'!J31=""),"",'Sample release form'!J31)
A45: =IF(OR('Sample release form'!A32="",'Sample release form'!A32="Add lines if needed",'Sample release form'!A32="Stem Genomics",'Sample release form'!A32="Add comments if necessary:",'Sample release form'!A32="*Please specify the target cell type or tissue into which the iPSCs will be differentiated (e.g., neurons, cardiomyocytes, hepatocytes)"),"",ROW()-27) | B45: =IF(OR('Sample release form'!A32="",'Sample release form'!A32="Add lines if needed",'Sample release form'!A32="Stem Genomics",'Sample release form'!A32="Add comments if necessary:",'Sample release form'!A32="*Please specify the target cell type or tissue into which the iPSCs will be differentiated (e.g., neurons, cardiomyocytes, hepatocytes)"),"",'Sample release form'!A32) | D45: =IF(OR($B45="",'Sample release form'!B32=""),"",'Sample release form'!B32) | E45: =IF(OR($B45="",'Sample release form'!C32=""),"",'Sample release form'!C32) | F45: =IF($B45="","","Human") | G45: =IF($B45="","","Homo sapiens") | I45: =IF($B45="","","DNA") | J45: =IF($B45="","","Cell") | L45: =IF(OR($B45="",'Sample release form'!D32=""),"",'Sample release form'!D32) | M45: =IF(B45="","",'Sample release form'!I32&IF(OR('Sample release form'!J32="",'Sample release form'!J32='Sample release form'!I32),"",IF('Sample release form'!I32="",""," / ")&'Sample release form'!J32)) | N45: =IF(OR($B45="",'Sample release form'!J32=""),"",'Sample release form'!J32)
A46: =IF(OR('Sample release form'!A33="",'Sample release form'!A33="Add lines if needed",'Sample release form'!A33="Stem Genomics",'Sample release form'!A33="Add comments if necessary:",'Sample release form'!A33="*Please specify the target cell type or tissue into which the iPSCs will be differentiated (e.g., neurons, cardiomyocytes, hepatocytes)"),"",ROW()-27) | B46: =IF(OR('Sample release form'!A33="",'Sample release form'!A33="Add lines if needed",'Sample release form'!A33="Stem Genomics",'Sample release form'!A33="Add comments if necessary:",'Sample release form'!A33="*Please specify the target cell type or tissue into which the iPSCs will be differentiated (e.g., neurons, cardiomyocytes, hepatocytes)"),"",'Sample release form'!A33) | D46: =IF(OR($B46="",'Sample release form'!B33=""),"",'Sample release form'!B33) | E46: =IF(OR($B46="",'Sample release form'!C33=""),"",'Sample release form'!C33) | F46: =IF($B46="","","Human") | G46: =IF($B46="","","Homo sapiens") | I46: =IF($B46="","","DNA") | J46: =IF($B46="","","Cell") | L46: =IF(OR($B46="",'Sample release form'!D33=""),"",'Sample release form'!D33) | M46: =IF(B46="","",'Sample release form'!I33&IF(OR('Sample release form'!J33="",'Sample release form'!J33='Sample release form'!I33),"",IF('Sample release form'!I33="",""," / ")&'Sample release form'!J33)) | N46: =IF(OR($B46="",'Sample release form'!J33=""),"",'Sample release form'!J33)
A47: =IF(OR('Sample release form'!A34="",'Sample release form'!A34="Add lines if needed",'Sample release form'!A34="Stem Genomics",'Sample release form'!A34="Add comments if necessary:",'Sample release form'!A34="*Please specify the target cell type or tissue into which the iPSCs will be differentiated (e.g., neurons, cardiomyocytes, hepatocytes)"),"",ROW()-27) | B47: =IF(OR('Sample release form'!A34="",'Sample release form'!A34="Add lines if needed",'Sample release form'!A34="Stem Genomics",'Sample release form'!A34="Add comments if necessary:",'Sample release form'!A34="*Please specify the target cell type or tissue into which the iPSCs will be differentiated (e.g., neurons, cardiomyocytes, hepatocytes)"),"",'Sample release form'!A34) | D47: =IF(OR($B47="",'Sample release form'!B34=""),"",'Sample release form'!B34) | E47: =IF(OR($B47="",'Sample release form'!C34=""),"",'Sample release form'!C34) | F47: =IF($B47="","","Human") | G47: =IF($B47="","","Homo sapiens") | I47: =IF($B47="","","DNA") | J47: =IF($B47="","","Cell") | L47: =IF(OR($B47="",'Sample release form'!D34=""),"",'Sample release form'!D34) | M47: =IF(B47="","",'Sample release form'!I34&IF(OR('Sample release form'!J34="",'Sample release form'!J34='Sample release form'!I34),"",IF('Sample release form'!I34="",""," / ")&'Sample release form'!J34)) | N47: =IF(OR($B47="",'Sample release form'!J34=""),"",'Sample release form'!J34)
A48: =IF(OR('Sample release form'!A35="",'Sample release form'!A35="Add lines if needed",'Sample release form'!A35="Stem Genomics",'Sample release form'!A35="Add comments if necessary:",'Sample release form'!A35="*Please specify the target cell type or tissue into which the iPSCs will be differentiated (e.g., neurons, cardiomyocytes, hepatocytes)"),"",ROW()-27) | B48: =IF(OR('Sample release form'!A35="",'Sample release form'!A35="Add lines if needed",'Sample release form'!A35="Stem Genomics",'Sample release form'!A35="Add comments if necessary:",'Sample release form'!A35="*Please specify the target cell type or tissue into which the iPSCs will be differentiated (e.g., neurons, cardiomyocytes, hepatocytes)"),"",'Sample release form'!A35) | D48: =IF(OR($B48="",'Sample release form'!B35=""),"",'Sample release form'!B35) | E48: =IF(OR($B48="",'Sample release form'!C35=""),"",'Sample release form'!C35) | F48: =IF($B48="","","Human") | G48: =IF($B48="","","Homo sapiens") | I48: =IF($B48="","","DNA") | J48: =IF($B48="","","Cell") | L48: =IF(OR($B48="",'Sample release form'!D35=""),"",'Sample release form'!D35) | M48: =IF(B48="","",'Sample release form'!I35&IF(OR('Sample release form'!J35="",'Sample release form'!J35='Sample release form'!I35),"",IF('Sample release form'!I35="",""," / ")&'Sample release form'!J35)) | N48: =IF(OR($B48="",'Sample release form'!J35=""),"",'Sample release form'!J35)
A49: =IF(OR('Sample release form'!A36="",'Sample release form'!A36="Add lines if needed",'Sample release form'!A36="Stem Genomics",'Sample release form'!A36="Add comments if necessary:",'Sample release form'!A36="*Please specify the target cell type or tissue into which the iPSCs will be differentiated (e.g., neurons, cardiomyocytes, hepatocytes)"),"",ROW()-27) | B49: =IF(OR('Sample release form'!A36="",'Sample release form'!A36="Add lines if needed",'Sample release form'!A36="Stem Genomics",'Sample release form'!A36="Add comments if necessary:",'Sample release form'!A36="*Please specify the target cell type or tissue into which the iPSCs will be differentiated (e.g., neurons, cardiomyocytes, hepatocytes)"),"",'Sample release form'!A36) | D49: =IF(OR($B49="",'Sample release form'!B36=""),"",'Sample release form'!B36) | E49: =IF(OR($B49="",'Sample release form'!C36=""),"",'Sample release form'!C36) | F49: =IF($B49="","","Human") | G49: =IF($B49="","","Homo sapiens") | I49: =IF($B49="","","DNA") | J49: =IF($B49="","","Cell") | L49: =IF(OR($B49="",'Sample release form'!D36=""),"",'Sample release form'!D36) | M49: =IF(B49="","",'Sample release form'!I36&IF(OR('Sample release form'!J36="",'Sample release form'!J36='Sample release form'!I36),"",IF('Sample release form'!I36="",""," / ")&'Sample release form'!J36)) | N49: =IF(OR($B49="",'Sample release form'!J36=""),"",'Sample release form'!J36)
...
